BEGIN:VCALENDAR
VERSION:2.0
PRODID:-//wp-events-plugin.com//7.2.3.1//EN
TZID:America/Los_Angeles
X-WR-TIMEZONE:America/Los_Angeles
BEGIN:VEVENT
UID:174@malibugardenclub.org
DTSTART;TZID=America/Los_Angeles:20191001T193000
DTEND;TZID=America/Los_Angeles:20191001T213000
DTSTAMP:20190926T123315Z
URL:https://www.malibugardenclub.org/events/native-vegetation-recovery-fol
 lowing-the-woolsey-fire/
SUMMARY:Native Vegetation Recovery Following The Woolsey Fire
DESCRIPTION:ln 2019 the NPS Inventory & Monitoring team completed over 200 
 Terrestrial Native Vegetation Monitoring Plots in the Santa Monica Mountai
 ns and Simi Hills (SMM & SH)\, more than twice the number of plots monitor
 ed in a non-fire year. By the time of the presentation\, we hope to have a
 nalyzed our large dataset to make conclusions about the status of the vege
 tation communities following last year's fires.
ATTACH;FMTTYPE=image/jpeg:https://www.malibugardenclub.org/wp-content/uplo
 ads/Santa-Moncia-vegetation.jpg
CATEGORIES:Local Events
LOCATION:First United Methodist Church of Santa Monica\, 1008 11th Street\,
  Santa Monica\, California\, 90403\, United States
X-APPLE-STRUCTURED-LOCATION;VALUE=URI;X-ADDRESS=1008 11th Street\, Santa Mo
 nica\, California\, 90403\, United States;X-APPLE-RADIUS=100;X-TITLE=First
  United Methodist Church of Santa Monica:geo:0,0
END:VEVENT
BEGIN:VTIMEZONE
TZID:America/Los_Angeles
X-LIC-LOCATION:America/Los_Angeles
BEGIN:DAYLIGHT
DTSTART:20190310T030000
TZOFFSETFROM:-0800
TZOFFSETTO:-0700
TZNAME:PDT
END:DAYLIGHT
END:VTIMEZONE
END:VCALENDAR