BEGIN:VCALENDAR
VERSION:2.0
PRODID:-//wp-events-plugin.com//7.2.3.1//EN
TZID:America/Los_Angeles
X-WR-TIMEZONE:America/Los_Angeles
BEGIN:VEVENT
UID:135@malibugardenclub.org
DTSTART;TZID=America/Los_Angeles:20190629T133000
DTEND;TZID=America/Los_Angeles:20190629T160000
DTSTAMP:20190620T153824Z
URL:https://www.malibugardenclub.org/events/native-plant-garden-maintenanc
 e/
SUMMARY:Native Plant Garden Maintenance
DESCRIPTION:Subjects covered include watering\, fertilizing (or not)\, groo
 ming\, mulching\, pest management and other aspects of garden maintenance.
  You’ll also discover how native plants respond to pruning cuts (good an
 d bad)\, what we trigger with our gardening activities\, and how to develo
 p good maintenance goals. Part of the class with be held outdoors\; bring 
 your hat and water bottle.
ATTACH;FMTTYPE=image/jpeg:https://www.malibugardenclub.org/wp-content/uplo
 ads/native-plants-2.jpg
CATEGORIES:Local Events
LOCATION:Theodore Payne Foundation - Classroom\, 10459 Tuxford St \, Sun Va
 lley\, CA\, 91352\, United States
X-APPLE-STRUCTURED-LOCATION;VALUE=URI;X-ADDRESS=10459 Tuxford St \, Sun Val
 ley\, CA\, 91352\, United States;X-APPLE-RADIUS=100;X-TITLE=Theodore Payne
  Foundation - Classroom:geo:0,0
END:VEVENT
BEGIN:VTIMEZONE
TZID:America/Los_Angeles
X-LIC-LOCATION:America/Los_Angeles
BEGIN:DAYLIGHT
DTSTART:20190310T030000
TZOFFSETFROM:-0800
TZOFFSETTO:-0700
TZNAME:PDT
END:DAYLIGHT
END:VTIMEZONE
END:VCALENDAR