BEGIN:VCALENDAR
VERSION:2.0
PRODID:-//wp-events-plugin.com//7.2.3.1//EN
TZID:America/Los_Angeles
X-WR-TIMEZONE:America/Los_Angeles
BEGIN:VEVENT
UID:167@malibugardenclub.org
DTSTART;TZID=America/Los_Angeles:20191003T110000
DTEND;TZID=America/Los_Angeles:20191005T160000
DTSTAMP:20190926T105633Z
URL:https://www.malibugardenclub.org/events/mt-sac-plant-sale-at-descanso-
 gardens/
SUMMARY:Mt. SAC Plant Sale at Descanso Gardens
DESCRIPTION:The Mount San Antonio College horticulture program sells a vari
 ety of potted plants from Thursday to Saturday\, October 3–5 at Descanso
  Gardens.
ATTACH;FMTTYPE=image/jpeg:https://www.malibugardenclub.org/wp-content/uplo
 ads/MtSACplantsale-1.jpg
CATEGORIES:Local Events
LOCATION:Descanso Gardens\, 1418 Descanso Dr\, La Cañada Flintridge\, CA\,
  91011\, United States
X-APPLE-STRUCTURED-LOCATION;VALUE=URI;X-ADDRESS=1418 Descanso Dr\, La Caña
 da Flintridge\, CA\, 91011\, United States;X-APPLE-RADIUS=100;X-TITLE=Desc
 anso Gardens:geo:0,0
END:VEVENT
BEGIN:VTIMEZONE
TZID:America/Los_Angeles
X-LIC-LOCATION:America/Los_Angeles
BEGIN:DAYLIGHT
DTSTART:20190310T030000
TZOFFSETFROM:-0800
TZOFFSETTO:-0700
TZNAME:PDT
END:DAYLIGHT
END:VTIMEZONE
END:VCALENDAR