BEGIN:VCALENDAR
VERSION:2.0
PRODID:-//wp-events-plugin.com//7.2.3.1//EN
TZID:America/Los_Angeles
X-WR-TIMEZONE:America/Los_Angeles
BEGIN:VEVENT
UID:91@malibugardenclub.org
DTSTART;TZID=America/Los_Angeles:20111005T190000
DTEND;TZID=America/Los_Angeles:20111005T210000
DTSTAMP:20190623T170059Z
URL:https://www.malibugardenclub.org/events/monrovia-growers-new-plant-int
 roductions/
SUMMARY:Monrovia Growers New Plant Introductions
DESCRIPTION:The Malibu Garden Club was pleased to have Nicholas Staddon fro
 m Monrovia Growers at our October meeting. We got a look behind the scene'
 s at Monrovia Nursery\, learning how new plants are discovered\, trialed\,
  propagated and brought to market.
ATTACH;FMTTYPE=image/jpeg:https://www.malibugardenclub.org/wp-content/uplo
 ads/Monrovia-Growers.jpg
CATEGORIES:Malibu Garden Club
LOCATION:Point Dume Club House\, 29500 Heathercliff Drive\, Malibu\, Califo
 rnia\, 90265\, United States
X-APPLE-STRUCTURED-LOCATION;VALUE=URI;X-ADDRESS=29500 Heathercliff Drive\, 
 Malibu\, California\, 90265\, United States;X-APPLE-RADIUS=100;X-TITLE=Poi
 nt Dume Club House:geo:0,0
END:VEVENT
BEGIN:VTIMEZONE
TZID:America/Los_Angeles
X-LIC-LOCATION:America/Los_Angeles
BEGIN:DAYLIGHT
DTSTART:20110313T030000
TZOFFSETFROM:-0800
TZOFFSETTO:-0700
TZNAME:PDT
END:DAYLIGHT
END:VTIMEZONE
END:VCALENDAR