BEGIN:VCALENDAR
VERSION:2.0
PRODID:-//wp-events-plugin.com//7.2.3.1//EN
TZID:America/Los_Angeles
X-WR-TIMEZONE:America/Los_Angeles
BEGIN:VEVENT
UID:104@malibugardenclub.org
DTSTART;TZID=America/Los_Angeles:20101006T190000
DTEND;TZID=America/Los_Angeles:20101006T210000
DTSTAMP:20190623T164339Z
URL:https://www.malibugardenclub.org/events/master-pumpkin-carver/
SUMMARY:Master Pumpkin Carver
DESCRIPTION:For our October meeting\, we were really excited to have Master
  Pumpkin Carver\, Gene Granata present. For 20+ years Gene has helped fami
 lies around the world celebrate the Halloween tradition of pumpkin carving
  and decorating.
ATTACH;FMTTYPE=image/jpeg:https://www.malibugardenclub.org/wp-content/uplo
 ads/pumpkin-carving.jpg
CATEGORIES:Malibu Garden Club
LOCATION:Point Dume Club House\, 29500 Heathercliff Drive\, Malibu\, Califo
 rnia\, 90265\, United States
X-APPLE-STRUCTURED-LOCATION;VALUE=URI;X-ADDRESS=29500 Heathercliff Drive\, 
 Malibu\, California\, 90265\, United States;X-APPLE-RADIUS=100;X-TITLE=Poi
 nt Dume Club House:geo:0,0
END:VEVENT
BEGIN:VTIMEZONE
TZID:America/Los_Angeles
X-LIC-LOCATION:America/Los_Angeles
BEGIN:DAYLIGHT
DTSTART:20100314T030000
TZOFFSETFROM:-0800
TZOFFSETTO:-0700
TZNAME:PDT
END:DAYLIGHT
END:VTIMEZONE
END:VCALENDAR