BEGIN:VCALENDAR
VERSION:2.0
PRODID:-//wp-events-plugin.com//7.2.3.1//EN
TZID:America/Los_Angeles
X-WR-TIMEZONE:America/Los_Angeles
BEGIN:VEVENT
UID:38@malibugardenclub.org
DTSTART;TZID=America/Los_Angeles:20160514T100000
DTEND;TZID=America/Los_Angeles:20160514T150000
DTSTAMP:20190626T100949Z
URL:https://www.malibugardenclub.org/events/malibu-garden-tour/
SUMMARY:Malibu Garden Tour
DESCRIPTION:On Saturday\, May 14th\, the Malibu Garden Club held its Garden
  Tour\, featuring gardens from around Malibu.
ATTACH;FMTTYPE=image/jpeg:https://www.malibugardenclub.org/wp-content/uplo
 ads/malibu-garden-06.jpg
CATEGORIES:Malibu Garden Club
END:VEVENT
BEGIN:VTIMEZONE
TZID:America/Los_Angeles
X-LIC-LOCATION:America/Los_Angeles
BEGIN:DAYLIGHT
DTSTART:20160313T030000
TZOFFSETFROM:-0800
TZOFFSETTO:-0700
TZNAME:PDT
END:DAYLIGHT
END:VTIMEZONE
END:VCALENDAR