BEGIN:VCALENDAR
VERSION:2.0
PRODID:-//wp-events-plugin.com//7.2.3.1//EN
TZID:America/Los_Angeles
X-WR-TIMEZONE:America/Los_Angeles
BEGIN:VEVENT
UID:89@malibugardenclub.org
DTSTART;TZID=America/Los_Angeles:20111207T190000
DTEND;TZID=America/Los_Angeles:20111207T210000
DTSTAMP:20190623T165945Z
URL:https://www.malibugardenclub.org/events/make-your-own-holiday-wreath/
SUMMARY:Make Your Own Holiday Wreath
DESCRIPTION:Thanks to Nopalito Nursery who conducted a wreath-making class.
  The gorgeous 17" wreath was made out of California Native plants. The fol
 ks from Nopalito Nursery brought plant materials and each attendee made th
 eir own wreath and took it home with them. 
ATTACH;FMTTYPE=image/jpeg:https://www.malibugardenclub.org/wp-content/uplo
 ads/wreather-making.jpg
CATEGORIES:Malibu Garden Club
LOCATION:Point Dume Club House\, 29500 Heathercliff Drive\, Malibu\, Califo
 rnia\, 90265\, United States
X-APPLE-STRUCTURED-LOCATION;VALUE=URI;X-ADDRESS=29500 Heathercliff Drive\, 
 Malibu\, California\, 90265\, United States;X-APPLE-RADIUS=100;X-TITLE=Poi
 nt Dume Club House:geo:0,0
END:VEVENT
BEGIN:VTIMEZONE
TZID:America/Los_Angeles
X-LIC-LOCATION:America/Los_Angeles
BEGIN:STANDARD
DTSTART:20111106T010000
TZOFFSETFROM:-0700
TZOFFSETTO:-0800
TZNAME:PST
END:STANDARD
END:VTIMEZONE
END:VCALENDAR