BEGIN:VCALENDAR
VERSION:2.0
PRODID:-//wp-events-plugin.com//7.2.3.1//EN
TZID:America/Los_Angeles
X-WR-TIMEZONE:America/Los_Angeles
BEGIN:VEVENT
UID:93@malibugardenclub.org
DTSTART;TZID=America/Los_Angeles:20110803T190000
DTEND;TZID=America/Los_Angeles:20110803T210000
DTSTAMP:20190623T163503Z
URL:https://www.malibugardenclub.org/events/make-the-most-of-your-summer-t
 omato-harvest/
SUMMARY:Make the most of your summer tomato harvest
DESCRIPTION:The Malibu Garden Club is excited to have Laura Taylor at our A
 ugust meeting. Laura spoke about tomatoes. We found out how the season was
  progressing and then indulged in some tomato recipes\, including Tomato/C
 ucumber Salsa\, a traditional Tuscan Panzanella (bread and tomato salad) a
 nd her Signature Gazpacho. Of course\, everyone took recipes home with the
 m!
ATTACH;FMTTYPE=image/jpeg:https://www.malibugardenclub.org/wp-content/uplo
 ads/tomatoes-Laura-Taylor.jpg
CATEGORIES:Malibu Garden Club
LOCATION:Point Dume Club House\, 29500 Heathercliff Drive\, Malibu\, Califo
 rnia\, 90265\, United States
X-APPLE-STRUCTURED-LOCATION;VALUE=URI;X-ADDRESS=29500 Heathercliff Drive\, 
 Malibu\, California\, 90265\, United States;X-APPLE-RADIUS=100;X-TITLE=Poi
 nt Dume Club House:geo:0,0
END:VEVENT
BEGIN:VTIMEZONE
TZID:America/Los_Angeles
X-LIC-LOCATION:America/Los_Angeles
BEGIN:DAYLIGHT
DTSTART:20110313T030000
TZOFFSETFROM:-0800
TZOFFSETTO:-0700
TZNAME:PDT
END:DAYLIGHT
END:VTIMEZONE
END:VCALENDAR