BEGIN:VCALENDAR
VERSION:2.0
PRODID:-//wp-events-plugin.com//7.2.3.1//EN
TZID:America/Los_Angeles
X-WR-TIMEZONE:America/Los_Angeles
BEGIN:VEVENT
UID:53@malibugardenclub.org
DTSTART;TZID=America/Los_Angeles:20150506T190000
DTEND;TZID=America/Los_Angeles:20150506T210000
DTSTAMP:20190623T170949Z
URL:https://www.malibugardenclub.org/events/look-ma-no-lawn/
SUMMARY:Look\, Ma\, No Lawn
DESCRIPTION:For our May event\, Lili Singer presented "Look\, Ma\, No Lawn.
 " An ever-timely topic\, Lili explained how to take out your lawn and offe
 r alternatives for space\, specifically low maintenance native plants that
  need no fertilizer and use a fraction of the water required for turf.
ATTACH;FMTTYPE=image/jpeg:https://www.malibugardenclub.org/wp-content/uplo
 ads/lawn-replacements.jpg
CATEGORIES:Malibu Garden Club
LOCATION:Point Dume Club House\, 29500 Heathercliff Drive\, Malibu\, Califo
 rnia\, 90265\, United States
X-APPLE-STRUCTURED-LOCATION;VALUE=URI;X-ADDRESS=29500 Heathercliff Drive\, 
 Malibu\, California\, 90265\, United States;X-APPLE-RADIUS=100;X-TITLE=Poi
 nt Dume Club House:geo:0,0
END:VEVENT
BEGIN:VTIMEZONE
TZID:America/Los_Angeles
X-LIC-LOCATION:America/Los_Angeles
BEGIN:DAYLIGHT
DTSTART:20150308T030000
TZOFFSETFROM:-0800
TZOFFSETTO:-0700
TZNAME:PDT
END:DAYLIGHT
END:VTIMEZONE
END:VCALENDAR