BEGIN:VCALENDAR
VERSION:2.0
PRODID:-//wp-events-plugin.com//7.2.3.1//EN
TZID:America/Los_Angeles
X-WR-TIMEZONE:America/Los_Angeles
BEGIN:VEVENT
UID:139@malibugardenclub.org
DTSTART;TZID=America/Los_Angeles:20190817T013000
DTEND;TZID=America/Los_Angeles:20190817T033000
DTSTAMP:20190620T171432Z
URL:https://www.malibugardenclub.org/events/look-ma-no-lawn-3/
SUMMARY:Look\, Ma\, No Lawn!
DESCRIPTION:Are you ready to lose the lawn? Have you applied for a cash for
  grass rebate? We’ll explain how to take the turf out and offer alternat
 ives for the space-specifically low-care native plants that need no fertil
 izer and use a fraction of the water required for turf.
ATTACH;FMTTYPE=image/jpeg:https://www.malibugardenclub.org/wp-content/uplo
 ads/lawn-alt.jpg
CATEGORIES:Local Events
LOCATION:Theodore Payne Foundation - Classroom\, 10459 Tuxford St \, Sun Va
 lley\, CA\, 91352\, United States
X-APPLE-STRUCTURED-LOCATION;VALUE=URI;X-ADDRESS=10459 Tuxford St \, Sun Val
 ley\, CA\, 91352\, United States;X-APPLE-RADIUS=100;X-TITLE=Theodore Payne
  Foundation - Classroom:geo:0,0
END:VEVENT
BEGIN:VTIMEZONE
TZID:America/Los_Angeles
X-LIC-LOCATION:America/Los_Angeles
BEGIN:DAYLIGHT
DTSTART:20190310T030000
TZOFFSETFROM:-0800
TZOFFSETTO:-0700
TZNAME:PDT
END:DAYLIGHT
END:VTIMEZONE
END:VCALENDAR