BEGIN:VCALENDAR
VERSION:2.0
PRODID:-//wp-events-plugin.com//7.2.3.1//EN
TZID:America/Los_Angeles
X-WR-TIMEZONE:America/Los_Angeles
BEGIN:VEVENT
UID:36@malibugardenclub.org
DTSTART;TZID=America/Los_Angeles:20171004T190000
DTEND;TZID=America/Los_Angeles:20171004T210000
DTSTAMP:20190613T130431Z
URL:https://www.malibugardenclub.org/events/local-native-plants/
SUMMARY:Local Native Plants
DESCRIPTION:For our October\, and the first event of the 2016-17 season\, M
 aster Gardener Carmen Sandoval presented "Local Native Plants." Carmen pre
 sented on local native plants and their traditional uses with recommendati
 ons for drought-tolerant landscaping.
ATTACH;FMTTYPE=image/jpeg:https://www.malibugardenclub.org/wp-content/uplo
 ads/native-plants.jpg
CATEGORIES:Malibu Garden Club
LOCATION:Point Dume Club House\, 29500 Heathercliff Drive\, Malibu\, Califo
 rnia\, 90265\, United States
X-APPLE-STRUCTURED-LOCATION;VALUE=URI;X-ADDRESS=29500 Heathercliff Drive\, 
 Malibu\, California\, 90265\, United States;X-APPLE-RADIUS=100;X-TITLE=Poi
 nt Dume Club House:geo:0,0
END:VEVENT
BEGIN:VTIMEZONE
TZID:America/Los_Angeles
X-LIC-LOCATION:America/Los_Angeles
BEGIN:DAYLIGHT
DTSTART:20170312T030000
TZOFFSETFROM:-0800
TZOFFSETTO:-0700
TZNAME:PDT
END:DAYLIGHT
END:VTIMEZONE
END:VCALENDAR