BEGIN:VCALENDAR
VERSION:2.0
PRODID:-//wp-events-plugin.com//7.2.3.1//EN
TZID:America/Los_Angeles
X-WR-TIMEZONE:America/Los_Angeles
BEGIN:VEVENT
UID:136@malibugardenclub.org
DTSTART;TZID=America/Los_Angeles:20190712T090000
DTEND;TZID=America/Los_Angeles:20190712T100000
DTSTAMP:20190620T163646Z
URL:https://www.malibugardenclub.org/events/irrigation-basics-for-the-nati
 ve-garden-a-walk-and-talk/
SUMMARY:Irrigation Basics for the Native Garden\, a Walk and Talk
DESCRIPTION:Curious about the best ways to water your native garden? This f
 ocused walk on TPF grounds covers how\, when and where to irrigate\, as we
 ll as the benefits and drawbacks for overhead\, drip and hand-watering equ
 ipment. Bring your hat and water bottle.
ATTACH;FMTTYPE=image/jpeg:https://www.malibugardenclub.org/wp-content/uplo
 ads/irrigation-regulations.jpg
CATEGORIES:Local Events
LOCATION:Theodore Payne Foundation\, 10459 Tuxford St.\, Sun Valley\, CA\, 
 91352\, United States
X-APPLE-STRUCTURED-LOCATION;VALUE=URI;X-ADDRESS=10459 Tuxford St.\, Sun Val
 ley\, CA\, 91352\, United States;X-APPLE-RADIUS=100;X-TITLE=Theodore Payne
  Foundation:geo:0,0
END:VEVENT
BEGIN:VTIMEZONE
TZID:America/Los_Angeles
X-LIC-LOCATION:America/Los_Angeles
BEGIN:DAYLIGHT
DTSTART:20190310T030000
TZOFFSETFROM:-0800
TZOFFSETTO:-0700
TZNAME:PDT
END:DAYLIGHT
END:VTIMEZONE
END:VCALENDAR