BEGIN:VCALENDAR
VERSION:2.0
PRODID:-//wp-events-plugin.com//7.2.3.1//EN
TZID:America/Los_Angeles
X-WR-TIMEZONE:America/Los_Angeles
BEGIN:VEVENT
UID:177@malibugardenclub.org
DTSTART;TZID=America/Los_Angeles:20191018T100000
DTEND;TZID=America/Los_Angeles:20191020T170000
DTSTAMP:20190926T130633Z
URL:https://www.malibugardenclub.org/events/international-orchid-show-and-
 sale/
SUMMARY:International Orchid Show and Sale
DESCRIPTION:Discover the amazing diversity of orchids as hundreds of exotic
  blooms compete for honors at The Huntington’s 5th annual International 
 Orchid Show and Sale. The event showcases lush displays by local and regio
 nal orchid societies and international growers\, while vendors have a wide
  range of orchid plants and related merchandise for sale.
ATTACH;FMTTYPE=image/jpeg:https://www.malibugardenclub.org/wp-content/uplo
 ads/Orchid-Show.jpg
CATEGORIES:Local Events
LOCATION:The Huntington Botanical Gardens\, 1151 Oxford Road\, San Marino\,
  CA\, 91108 \, United States
X-APPLE-STRUCTURED-LOCATION;VALUE=URI;X-ADDRESS=1151 Oxford Road\, San Mari
 no\, CA\, 91108 \, United States;X-APPLE-RADIUS=100;X-TITLE=The Huntington
  Botanical Gardens:geo:0,0
END:VEVENT
BEGIN:VTIMEZONE
TZID:America/Los_Angeles
X-LIC-LOCATION:America/Los_Angeles
BEGIN:DAYLIGHT
DTSTART:20190310T030000
TZOFFSETFROM:-0800
TZOFFSETTO:-0700
TZNAME:PDT
END:DAYLIGHT
END:VTIMEZONE
END:VCALENDAR