BEGIN:VCALENDAR
VERSION:2.0
PRODID:-//wp-events-plugin.com//7.2.3.1//EN
TZID:America/Los_Angeles
X-WR-TIMEZONE:America/Los_Angeles
BEGIN:VEVENT
UID:215@malibugardenclub.org
DTSTART;TZID=America/Los_Angeles:20230202T110000
DTEND;TZID=America/Los_Angeles:20230202T130000
DTSTAMP:20230212T141746Z
URL:https://www.malibugardenclub.org/events/inner-garden-malibu-tour/
SUMMARY:Inner Gardens Malibu Tour
DESCRIPTION:One of Malibu’s hidden treasures is the Inner Gardens Malibu.
  It is a gardener’s botanical wonder. The Malibu Garden Club will tour t
 he Inner Gardens on Thursday February 2nd at 11 AM. Lunch will follow.
ATTACH;FMTTYPE=image/jpeg:https://www.malibugardenclub.org/wp-content/uplo
 ads/nursery.jpg
CATEGORIES:Malibu Garden Club
LOCATION:Inner Gardens of Malibu\, 6432 Busch Drive\, Malibu\, CA\, 90265\,
  United States
X-APPLE-STRUCTURED-LOCATION;VALUE=URI;X-ADDRESS=6432 Busch Drive\, Malibu\,
  CA\, 90265\, United States;X-APPLE-RADIUS=100;X-TITLE=Inner Gardens of Ma
 libu:geo:0,0
END:VEVENT
BEGIN:VTIMEZONE
TZID:America/Los_Angeles
X-LIC-LOCATION:America/Los_Angeles
BEGIN:STANDARD
DTSTART:20221106T010000
TZOFFSETFROM:-0700
TZOFFSETTO:-0800
TZNAME:PST
END:STANDARD
END:VTIMEZONE
END:VCALENDAR