BEGIN:VCALENDAR
VERSION:2.0
PRODID:-//wp-events-plugin.com//7.2.3.1//EN
TZID:America/Los_Angeles
X-WR-TIMEZONE:America/Los_Angeles
BEGIN:VEVENT
UID:178@malibugardenclub.org
DTSTART;TZID=America/Los_Angeles:20191025T100000
DTEND;TZID=America/Los_Angeles:20191027T170000
DTSTAMP:20190926T131548Z
URL:https://www.malibugardenclub.org/events/huntington-botanical-gardens-f
 all-plant-sale/
SUMMARY:Huntington Botanical Gardens Fall Plant Sale
DESCRIPTION:Autumn is the perfect time to plant California natives\, and Hu
 ntington's Fall Plant Sale is the perfect place to stock up on all your fa
 vorites\, including manzanita\, salvia\, buckwheat\, ceanothus\, desert ma
 llow\, and many others.
ATTACH;FMTTYPE=image/jpeg:https://www.malibugardenclub.org/wp-content/uplo
 ads/Plant-Sale-02.jpg
CATEGORIES:Local Events
LOCATION:The Huntington Botanical Gardens\, 1151 Oxford Road\, San Marino\,
  CA\, 91108 \, United States
X-APPLE-STRUCTURED-LOCATION;VALUE=URI;X-ADDRESS=1151 Oxford Road\, San Mari
 no\, CA\, 91108 \, United States;X-APPLE-RADIUS=100;X-TITLE=The Huntington
  Botanical Gardens:geo:0,0
END:VEVENT
BEGIN:VTIMEZONE
TZID:America/Los_Angeles
X-LIC-LOCATION:America/Los_Angeles
BEGIN:DAYLIGHT
DTSTART:20190310T030000
TZOFFSETFROM:-0800
TZOFFSETTO:-0700
TZNAME:PDT
END:DAYLIGHT
END:VTIMEZONE
END:VCALENDAR