BEGIN:VCALENDAR
VERSION:2.0
PRODID:-//wp-events-plugin.com//7.2.3.1//EN
TZID:America/Los_Angeles
X-WR-TIMEZONE:America/Los_Angeles
BEGIN:VEVENT
UID:48@malibugardenclub.org
DTSTART;TZID=America/Los_Angeles:20151202T190000
DTEND;TZID=America/Los_Angeles:20151202T210000
DTSTAMP:20190623T173522Z
URL:https://www.malibugardenclub.org/events/holiday-wreaths/
SUMMARY:Holiday Wreaths
DESCRIPTION:For our December event\, Connie Mercurio presented "Holiday Wre
 aths." Connie presented two different holiday wreath demonstrations\, one 
 each for Christmas and Hanukkah\, as well as how to decorate small topiary
  for the holidays.
ATTACH;FMTTYPE=image/jpeg:https://www.malibugardenclub.org/wp-content/uplo
 ads/Connie-Mercurio-Holiday-Wreaths.jpg
CATEGORIES:Malibu Garden Club
LOCATION:Point Dume Club House\, 29500 Heathercliff Drive\, Malibu\, Califo
 rnia\, 90265\, United States
X-APPLE-STRUCTURED-LOCATION;VALUE=URI;X-ADDRESS=29500 Heathercliff Drive\, 
 Malibu\, California\, 90265\, United States;X-APPLE-RADIUS=100;X-TITLE=Poi
 nt Dume Club House:geo:0,0
END:VEVENT
BEGIN:VTIMEZONE
TZID:America/Los_Angeles
X-LIC-LOCATION:America/Los_Angeles
BEGIN:STANDARD
DTSTART:20151101T010000
TZOFFSETFROM:-0700
TZOFFSETTO:-0800
TZNAME:PST
END:STANDARD
END:VTIMEZONE
END:VCALENDAR