BEGIN:VCALENDAR
VERSION:2.0
PRODID:-//wp-events-plugin.com//7.2.3.1//EN
TZID:America/Los_Angeles
X-WR-TIMEZONE:America/Los_Angeles
BEGIN:VEVENT
UID:233@malibugardenclub.org
DTSTART;TZID=America/Los_Angeles:20240501T101500
DTEND;TZID=America/Los_Angeles:20240501T130000
DTSTAMP:20240504T221019Z
URL:https://www.malibugardenclub.org/events/historic-camarillo-ranch-house
 -garden-barn-tour/
SUMMARY:Historic Camarillo Ranch House\, Garden & Barn Tour
DESCRIPTION:The Malibu Garden Club&rsquo\;s next event is at the historic C
 amarillo Ranch House\, a beautifully restored 1890s house with a large\, b
 arn and garden. 
ATTACH;FMTTYPE=image/jpeg:https://www.malibugardenclub.org/wp-content/uplo
 ads/Camarillo_Ranch_House.jpg
CATEGORIES:Malibu Garden Club
LOCATION:Camarillo Ranch House\, 201 Camarillo Ranch Rd.\, Camarillo\, Cali
 fornia\, United States
X-APPLE-STRUCTURED-LOCATION;VALUE=URI;X-ADDRESS=201 Camarillo Ranch Rd.\, C
 amarillo\, California\, United States;X-APPLE-RADIUS=100;X-TITLE=Camarillo
  Ranch House:geo:0,0
END:VEVENT
BEGIN:VTIMEZONE
TZID:America/Los_Angeles
X-LIC-LOCATION:America/Los_Angeles
BEGIN:DAYLIGHT
DTSTART:20240310T030000
TZOFFSETFROM:-0800
TZOFFSETTO:-0700
TZNAME:PDT
END:DAYLIGHT
END:VTIMEZONE
END:VCALENDAR