BEGIN:VCALENDAR
VERSION:2.0
PRODID:-//wp-events-plugin.com//7.2.3.1//EN
TZID:America/Los_Angeles
X-WR-TIMEZONE:America/Los_Angeles
BEGIN:VEVENT
UID:235@malibugardenclub.org
DTSTART;TZID=America/Los_Angeles:20250125T130000
DTEND;TZID=America/Los_Angeles:20250125T150000
DTSTAMP:20250204T123951Z
URL:https://www.malibugardenclub.org/events/high-tea-at-joan-and-tiffany-m
 urrays-home/
SUMMARY:High Tea at Joan and Tiffany Murray's Home
DESCRIPTION:Enjoy a lovely high tea party served in porcelain cups with fin
 ger sandwiches and delectable cakes. French pastries from Le Cafe de la Pl
 age Malibu will be served.
ATTACH;FMTTYPE=image/jpeg:https://www.malibugardenclub.org/wp-content/uplo
 ads/fire-safe-garden.jpg
CATEGORIES:Malibu Garden Club
END:VEVENT
BEGIN:VTIMEZONE
TZID:America/Los_Angeles
X-LIC-LOCATION:America/Los_Angeles
BEGIN:STANDARD
DTSTART:20241103T010000
TZOFFSETFROM:-0700
TZOFFSETTO:-0800
TZNAME:PST
END:STANDARD
END:VTIMEZONE
END:VCALENDAR