BEGIN:VCALENDAR
VERSION:2.0
PRODID:-//wp-events-plugin.com//7.2.3.1//EN
TZID:America/Los_Angeles
X-WR-TIMEZONE:America/Los_Angeles
BEGIN:VEVENT
UID:15@malibugardenclub.org
DTSTART;TZID=America/Los_Angeles:20190306T093000
DTEND;TZID=America/Los_Angeles:20190306T120000
DTSTAMP:20190623T175419Z
URL:https://www.malibugardenclub.org/events/healing-in-the-chumash-way/
SUMMARY:Healing in the Chumash Way
DESCRIPTION:For our March event\, Dr. James Adams\, USC School of Pharmacy 
 Associate Professor presented Healing in the Chumash Way. During the talk\
 , Dr. Adams taught us how to make medicines from California plants\, how t
 he medicines work and why we should use them.
ATTACH;FMTTYPE=image/jpeg:https://www.malibugardenclub.org/wp-content/uplo
 ads/Dr-James-Adams-Chumash.jpg
CATEGORIES:Malibu Garden Club
LOCATION:Point Dume Club House\, 29500 Heathercliff Drive\, Malibu\, Califo
 rnia\, 90265\, United States
X-APPLE-STRUCTURED-LOCATION;VALUE=URI;X-ADDRESS=29500 Heathercliff Drive\, 
 Malibu\, California\, 90265\, United States;X-APPLE-RADIUS=100;X-TITLE=Poi
 nt Dume Club House:geo:0,0
END:VEVENT
BEGIN:VTIMEZONE
TZID:America/Los_Angeles
X-LIC-LOCATION:America/Los_Angeles
BEGIN:STANDARD
DTSTART:20181104T010000
TZOFFSETFROM:-0700
TZOFFSETTO:-0800
TZNAME:PST
END:STANDARD
END:VTIMEZONE
END:VCALENDAR