BEGIN:VCALENDAR
VERSION:2.0
PRODID:-//wp-events-plugin.com//7.2.3.1//EN
TZID:America/Los_Angeles
X-WR-TIMEZONE:America/Los_Angeles
BEGIN:VEVENT
UID:181@malibugardenclub.org
DTSTART;TZID=America/Los_Angeles:20191204T093000
DTEND;TZID=America/Los_Angeles:20191204T120000
DTSTAMP:20191204T235226Z
URL:https://www.malibugardenclub.org/events/habitat-restoration-and-native
 -plant-nurseries/
SUMMARY:Habitat Restoration and Native Plant Nurseries
DESCRIPTION:For our December 2019 meeting\, Jack Smith will talk about habi
 tat restoration in the Santa Monica Mountains and the Angeles National For
 est\, volunteer outreach & events\, challenges\, lessons learned\, propaga
 tion tips\, best management practices\, and efforts to prevent the spread 
 of harmful pathogens like Phytophthora.
ATTACH;FMTTYPE=image/jpeg:https://www.malibugardenclub.org/wp-content/uplo
 ads/jack-smith-tree-people-tree.jpg
CATEGORIES:Malibu Garden Club
LOCATION:Point Dume Club House\, 29500 Heathercliff Drive\, Malibu\, Califo
 rnia\, 90265\, United States
X-APPLE-STRUCTURED-LOCATION;VALUE=URI;X-ADDRESS=29500 Heathercliff Drive\, 
 Malibu\, California\, 90265\, United States;X-APPLE-RADIUS=100;X-TITLE=Poi
 nt Dume Club House:geo:0,0
END:VEVENT
BEGIN:VTIMEZONE
TZID:America/Los_Angeles
X-LIC-LOCATION:America/Los_Angeles
BEGIN:STANDARD
DTSTART:20191103T010000
TZOFFSETFROM:-0700
TZOFFSETTO:-0800
TZNAME:PST
END:STANDARD
END:VTIMEZONE
END:VCALENDAR