BEGIN:VCALENDAR
VERSION:2.0
PRODID:-//wp-events-plugin.com//7.2.3.1//EN
TZID:America/Los_Angeles
X-WR-TIMEZONE:America/Los_Angeles
BEGIN:VEVENT
UID:239@malibugardenclub.org
DTSTART;TZID=America/Los_Angeles:20251016T100000
DTEND;TZID=America/Los_Angeles:20251016T130000
DTSTAMP:20251018T175431Z
URL:https://www.malibugardenclub.org/events/guided-tour-of-xanabu/
SUMMARY:Guided Tour of XANABU
DESCRIPTION:XANABU is an idyllic place of great beauty and contentment. Ex
 plore the Coffee Plantation\, featuring coffee plants adapted for Californ
 ia’s coast and bordered by passion fruit vines for natural wind protecti
 on. Native plantings form a living “fire wall\,” alongside oaks that s
 howcase pruning and fuel-load clearing for fire safety. The grounds also i
 nclude two fruit orchards and distinctive architectural structures\, blend
 ing beauty\, sustainability\, and inspiration.
ATTACH;FMTTYPE=image/jpeg:https://www.malibugardenclub.org/wp-content/uplo
 ads/Xanabu.jpg
CATEGORIES:Malibu Garden Club
END:VEVENT
BEGIN:VTIMEZONE
TZID:America/Los_Angeles
X-LIC-LOCATION:America/Los_Angeles
BEGIN:DAYLIGHT
DTSTART:20250309T030000
TZOFFSETFROM:-0800
TZOFFSETTO:-0700
TZNAME:PDT
END:DAYLIGHT
END:VTIMEZONE
END:VCALENDAR