BEGIN:VCALENDAR
VERSION:2.0
PRODID:-//wp-events-plugin.com//7.2.3.1//EN
TZID:America/Los_Angeles
X-WR-TIMEZONE:America/Los_Angeles
BEGIN:VEVENT
UID:160@malibugardenclub.org
DTSTART;TZID=America/Los_Angeles:20190720T090000
DTEND;TZID=America/Los_Angeles:20190720T100000
DTSTAMP:20190701T102647Z
URL:https://www.malibugardenclub.org/events/growing-succulents/
SUMMARY:Growing Succulents
DESCRIPTION:Trending succulents and cacti are some of the easiest plants to
  grow. Armstrong Garden Center experts will give you tips to keep them hea
 lthy\, happy and beautiful.
ATTACH;FMTTYPE=image/jpeg:https://www.malibugardenclub.org/wp-content/uplo
 ads/succulents-03.jpg
CATEGORIES:Local Events
END:VEVENT
BEGIN:VTIMEZONE
TZID:America/Los_Angeles
X-LIC-LOCATION:America/Los_Angeles
BEGIN:DAYLIGHT
DTSTART:20190310T030000
TZOFFSETFROM:-0800
TZOFFSETTO:-0700
TZNAME:PDT
END:DAYLIGHT
END:VTIMEZONE
END:VCALENDAR