BEGIN:VCALENDAR
VERSION:2.0
PRODID:-//wp-events-plugin.com//7.2.3.1//EN
TZID:America/Los_Angeles
X-WR-TIMEZONE:America/Los_Angeles
BEGIN:VEVENT
UID:159@malibugardenclub.org
DTSTART;TZID=America/Los_Angeles:20190706T090000
DTEND;TZID=America/Los_Angeles:20190706T100000
DTSTAMP:20190701T101230Z
URL:https://www.malibugardenclub.org/events/growing-plumerias/
SUMMARY:Growing Plumerias
DESCRIPTION:Back by popular demand. It's so easy to grow the Hawaiian lei f
 lower\, Plumerias. Come & select your favorite. Learn basic care and techn
 iques to keep your plumerias healthy and blooming all summer.
ATTACH;FMTTYPE=image/jpeg:https://www.malibugardenclub.org/wp-content/uplo
 ads/plumerias.jpg
CATEGORIES:Local Events
END:VEVENT
BEGIN:VTIMEZONE
TZID:America/Los_Angeles
X-LIC-LOCATION:America/Los_Angeles
BEGIN:DAYLIGHT
DTSTART:20190310T030000
TZOFFSETFROM:-0800
TZOFFSETTO:-0700
TZNAME:PDT
END:DAYLIGHT
END:VTIMEZONE
END:VCALENDAR