BEGIN:VCALENDAR
VERSION:2.0
PRODID:-//wp-events-plugin.com//7.2.3.1//EN
TZID:America/Los_Angeles
X-WR-TIMEZONE:America/Los_Angeles
BEGIN:VEVENT
UID:63@malibugardenclub.org
DTSTART;TZID=America/Los_Angeles:20140402T190000
DTEND;TZID=America/Los_Angeles:20140402T210000
DTSTAMP:20190623T171708Z
URL:https://www.malibugardenclub.org/events/growing-heirloom-tomatoes-on-t
 he-california-coast/
SUMMARY:Growing Heirloom Tomatoes on the California Coast
DESCRIPTION:Peter Olpe presented on growing heirlooms tomatoes on the Calif
 ornia coast." Peter\, aka "The Tomato Whisperer\," talked about the histor
 y\, care\, and culture of heirloom tomatoes\, and addressed many common qu
 estions.
ATTACH;FMTTYPE=image/jpeg:https://www.malibugardenclub.org/wp-content/uplo
 ads/heirloom-tomatoes.jpg
CATEGORIES:Malibu Garden Club
LOCATION:Point Dume Club House\, 29500 Heathercliff Drive\, Malibu\, Califo
 rnia\, 90265\, United States
X-APPLE-STRUCTURED-LOCATION;VALUE=URI;X-ADDRESS=29500 Heathercliff Drive\, 
 Malibu\, California\, 90265\, United States;X-APPLE-RADIUS=100;X-TITLE=Poi
 nt Dume Club House:geo:0,0
END:VEVENT
BEGIN:VTIMEZONE
TZID:America/Los_Angeles
X-LIC-LOCATION:America/Los_Angeles
BEGIN:DAYLIGHT
DTSTART:20140309T030000
TZOFFSETFROM:-0800
TZOFFSETTO:-0700
TZNAME:PDT
END:DAYLIGHT
END:VTIMEZONE
END:VCALENDAR