BEGIN:VCALENDAR
VERSION:2.0
PRODID:-//wp-events-plugin.com//7.2.3.1//EN
TZID:America/Los_Angeles
X-WR-TIMEZONE:America/Los_Angeles
BEGIN:VEVENT
UID:109@malibugardenclub.org
DTSTART;TZID=America/Los_Angeles:20100407T000000
DTEND;TZID=America/Los_Angeles:20100407T000000
DTSTAMP:20190623T164631Z
URL:https://www.malibugardenclub.org/events/good-bugs-bad-bugs/
SUMMARY:Good Bugs\, Bad Bugs
DESCRIPTION:For our April meeting\, Ms. Heather Teodoro from the L.A. Vecto
 r Control Department presented "Good Bugs\, Bad Bugs." Spring has sprung a
 nd so have the pests.
ATTACH;FMTTYPE=image/jpeg:https://www.malibugardenclub.org/wp-content/uplo
 ads/garden-pests.jpg
CATEGORIES:Malibu Garden Club
LOCATION:Point Dume Club House\, 29500 Heathercliff Drive\, Malibu\, Califo
 rnia\, 90265\, United States
X-APPLE-STRUCTURED-LOCATION;VALUE=URI;X-ADDRESS=29500 Heathercliff Drive\, 
 Malibu\, California\, 90265\, United States;X-APPLE-RADIUS=100;X-TITLE=Poi
 nt Dume Club House:geo:0,0
END:VEVENT
BEGIN:VTIMEZONE
TZID:America/Los_Angeles
X-LIC-LOCATION:America/Los_Angeles
BEGIN:DAYLIGHT
DTSTART:20100314T030000
TZOFFSETFROM:-0800
TZOFFSETTO:-0700
TZNAME:PDT
END:DAYLIGHT
END:VTIMEZONE
END:VCALENDAR