BEGIN:VCALENDAR
VERSION:2.0
PRODID:-//wp-events-plugin.com//7.2.3.1//EN
TZID:America/Los_Angeles
X-WR-TIMEZONE:America/Los_Angeles
BEGIN:VEVENT
UID:154@malibugardenclub.org
DTSTART;TZID=America/Los_Angeles:20190706T100000
DTEND;TZID=America/Los_Angeles:20190706T120000
DTSTAMP:20190620T194735Z
URL:https://www.malibugardenclub.org/events/good-bug-bad-bug-sustainable-i
 ntegrated-pest-management/
SUMMARY:Good Bug\, Bad Bug: Sustainable Integrated Pest Management
DESCRIPTION:Have you ever wondered what’s going on with your plants? Wher
 e did all these critters in my soil come from? There are 92\,000 species o
 f identified insects in the United States\, about 95% are considered good 
 or neutral.
ATTACH;FMTTYPE=image/jpeg:https://www.malibugardenclub.org/wp-content/uplo
 ads/bugs.jpg
CATEGORIES:Local Events
LOCATION:South Coast Botanic Garden\, 26300 Crenshaw Boulevard\, Palos Verd
 es Peninsula\, California\, 90274\, United States
X-APPLE-STRUCTURED-LOCATION;VALUE=URI;X-ADDRESS=26300 Crenshaw Boulevard\, 
 Palos Verdes Peninsula\, California\, 90274\, United States;X-APPLE-RADIUS
 =100;X-TITLE=South Coast Botanic Garden:geo:0,0
END:VEVENT
BEGIN:VTIMEZONE
TZID:America/Los_Angeles
X-LIC-LOCATION:America/Los_Angeles
BEGIN:DAYLIGHT
DTSTART:20190310T030000
TZOFFSETFROM:-0800
TZOFFSETTO:-0700
TZNAME:PDT
END:DAYLIGHT
END:VTIMEZONE
END:VCALENDAR