BEGIN:VCALENDAR
VERSION:2.0
PRODID:-//wp-events-plugin.com//7.2.3.1//EN
TZID:America/Los_Angeles
X-WR-TIMEZONE:America/Los_Angeles
BEGIN:VEVENT
UID:25@malibugardenclub.org
DTSTART;TZID=America/Los_Angeles:20180509T103000
DTEND;TZID=America/Los_Angeles:20180509T133000
DTSTAMP:20190623T180031Z
URL:https://www.malibugardenclub.org/events/getty-villa-field-trip/
SUMMARY:Getty Villa - Field Trip
DESCRIPTION:The Getty Villa recently completed a 2-year multi-million dolla
 r renovation. We held a field trip on Wednesday\, May 9th.
ATTACH;FMTTYPE=image/jpeg:https://www.malibugardenclub.org/wp-content/uplo
 ads/getty-villa.jpg
CATEGORIES:Malibu Garden Club
LOCATION:Getty Villa\, 17985 Pacific Coast Hwy.\, Pacific Palisades\, Calif
 ornia\, 90272\, United States
X-APPLE-STRUCTURED-LOCATION;VALUE=URI;X-ADDRESS=17985 Pacific Coast Hwy.\, 
 Pacific Palisades\, California\, 90272\, United States;X-APPLE-RADIUS=100;
 X-TITLE=Getty Villa:geo:0,0
END:VEVENT
BEGIN:VTIMEZONE
TZID:America/Los_Angeles
X-LIC-LOCATION:America/Los_Angeles
BEGIN:DAYLIGHT
DTSTART:20180311T030000
TZOFFSETFROM:-0800
TZOFFSETTO:-0700
TZNAME:PDT
END:DAYLIGHT
END:VTIMEZONE
END:VCALENDAR