BEGIN:VCALENDAR
VERSION:2.0
PRODID:-//wp-events-plugin.com//7.2.3.1//EN
TZID:America/Los_Angeles
X-WR-TIMEZONE:America/Los_Angeles
BEGIN:VEVENT
UID:218@malibugardenclub.org
DTSTART;TZID=America/Los_Angeles:20230323T113000
DTEND;TZID=America/Los_Angeles:20230323T140000
DTSTAMP:20230325T131801Z
URL:https://www.malibugardenclub.org/events/getty-villa-field-trip-tour-an
 d-luncheon/
SUMMARY:It's Spring Time at the Getty Villa
DESCRIPTION:At the Getty Villa\, the flowers are blooming and the gardens a
 nd works of art are spectacular. Members of the Malibu Garden Club will vi
 sit the Getty Villa on Thursday\, March 23rd at 11:30 a.m. at the Getty V
 illa Cafe for lunch (dutch treat). The Cafe serves casual Mediterranean-in
 spired fare made with fresh\, local ingredients including organic produce 
 whenever possible. We will eat on the terrace overlooking the ocean and V
 illa. At 12:30 p.m.\, we will be given a guided tour of the gardens. Meet 
 near the Museum Store entrance. You may bring a guest.
ATTACH;FMTTYPE=image/jpeg:https://www.malibugardenclub.org/wp-content/uplo
 ads/getty-villa.jpg
CATEGORIES:Malibu Garden Club
END:VEVENT
BEGIN:VTIMEZONE
TZID:America/Los_Angeles
X-LIC-LOCATION:America/Los_Angeles
BEGIN:DAYLIGHT
DTSTART:20230312T030000
TZOFFSETFROM:-0800
TZOFFSETTO:-0700
TZNAME:PDT
END:DAYLIGHT
END:VTIMEZONE
END:VCALENDAR