BEGIN:VCALENDAR
VERSION:2.0
PRODID:-//wp-events-plugin.com//7.2.3.1//EN
TZID:America/Los_Angeles
X-WR-TIMEZONE:America/Los_Angeles
BEGIN:VEVENT
UID:163@malibugardenclub.org
DTSTART;TZID=America/Los_Angeles:20191016T114500
DTEND;TZID=America/Los_Angeles:20191016T150000
DTSTAMP:20191026T115800Z
URL:https://www.malibugardenclub.org/events/getty-villa-field-trip-2/
SUMMARY:Getty Villa - Field Trip
DESCRIPTION:For this members-only field trip\, we'll visit the Getty Villa\
 , who has an exceptional one-time exhibit of 2000-year-old bronze and marb
 le statues which have never been out of Italy before. These exquisite stat
 ues were used in Roman gardens as attractive focal points of interest.  Th
 e exhibit is called Buried by Vesuvius\, Treasures from the Villa Dei Papi
 ri and closes 10/28/19.
ATTACH;FMTTYPE=image/jpeg:https://www.malibugardenclub.org/wp-content/uplo
 ads/getty-center.jpg
CATEGORIES:Malibu Garden Club
LOCATION:Getty Villa\, 17985 Pacific Coast Hwy.\, Pacific Palisades\, Calif
 ornia\, 90272\, United States
X-APPLE-STRUCTURED-LOCATION;VALUE=URI;X-ADDRESS=17985 Pacific Coast Hwy.\, 
 Pacific Palisades\, California\, 90272\, United States;X-APPLE-RADIUS=100;
 X-TITLE=Getty Villa:geo:0,0
END:VEVENT
BEGIN:VTIMEZONE
TZID:America/Los_Angeles
X-LIC-LOCATION:America/Los_Angeles
BEGIN:DAYLIGHT
DTSTART:20190310T030000
TZOFFSETFROM:-0800
TZOFFSETTO:-0700
TZNAME:PDT
END:DAYLIGHT
END:VTIMEZONE
END:VCALENDAR