BEGIN:VCALENDAR
VERSION:2.0
PRODID:-//wp-events-plugin.com//7.2.3.1//EN
TZID:America/Los_Angeles
X-WR-TIMEZONE:America/Los_Angeles
BEGIN:VEVENT
UID:8@malibugardenclub.org
DTSTART;TZID=America/Los_Angeles:20190403T090000
DTEND;TZID=America/Los_Angeles:20190403T110000
DTSTAMP:20190623T175252Z
URL:https://www.malibugardenclub.org/events/gardens-of-the-world-field-tri
 p/
SUMMARY:Gardens of the World - Field Trip
DESCRIPTION:For our April 2019 "Members-Only" event\, we took a field trip 
 to the Gardens of the World. Situated on 4.5 acres\, Gardens of the World\
 , offers 4 distinct\, beautiful gardens: English\, Japanese\, French and I
 talian. The gardens were in full bloom.
ATTACH;FMTTYPE=image/jpeg:https://www.malibugardenclub.org/wp-content/uplo
 ads/Gardens-of-the-World-1.jpg
CATEGORIES:Malibu Garden Club
LOCATION:Gardens of the World\, 2001 Thousand Oaks Boulevard\, Thousand Oak
 s\, California\, 91362\, United States
X-APPLE-STRUCTURED-LOCATION;VALUE=URI;X-ADDRESS=2001 Thousand Oaks Boulevar
 d\, Thousand Oaks\, California\, 91362\, United States;X-APPLE-RADIUS=100;
 X-TITLE=Gardens of the World:geo:0,0
END:VEVENT
BEGIN:VTIMEZONE
TZID:America/Los_Angeles
X-LIC-LOCATION:America/Los_Angeles
BEGIN:DAYLIGHT
DTSTART:20190310T030000
TZOFFSETFROM:-0800
TZOFFSETTO:-0700
TZNAME:PDT
END:DAYLIGHT
END:VTIMEZONE
END:VCALENDAR