BEGIN:VCALENDAR
VERSION:2.0
PRODID:-//wp-events-plugin.com//7.2.3.1//EN
TZID:America/Los_Angeles
X-WR-TIMEZONE:America/Los_Angeles
BEGIN:VEVENT
UID:110@malibugardenclub.org
DTSTART;TZID=America/Los_Angeles:20100303T190000
DTEND;TZID=America/Los_Angeles:20100303T210000
DTSTAMP:20190623T164656Z
URL:https://www.malibugardenclub.org/events/gardening-within-your-watering
 -means/
SUMMARY:Gardening Within Your Watering Means
DESCRIPTION:For our March meeting\, Nan Sterman\, author of California Gard
 ener's Guide\, explained our water situation\, presented lovely examples o
 f water-wise gardens\, covered 30-40 examples of water-wise plants\, and e
 nded with tips for success in growing those plants.
ATTACH;FMTTYPE=image/jpeg:https://www.malibugardenclub.org/wp-content/uplo
 ads/Nan-Sterman.jpg
CATEGORIES:Malibu Garden Club
LOCATION:Point Dume Club House\, 29500 Heathercliff Drive\, Malibu\, Califo
 rnia\, 90265\, United States
X-APPLE-STRUCTURED-LOCATION;VALUE=URI;X-ADDRESS=29500 Heathercliff Drive\, 
 Malibu\, California\, 90265\, United States;X-APPLE-RADIUS=100;X-TITLE=Poi
 nt Dume Club House:geo:0,0
END:VEVENT
BEGIN:VTIMEZONE
TZID:America/Los_Angeles
X-LIC-LOCATION:America/Los_Angeles
BEGIN:STANDARD
DTSTART:20091101T010000
TZOFFSETFROM:-0700
TZOFFSETTO:-0800
TZNAME:PST
END:STANDARD
END:VTIMEZONE
END:VCALENDAR