BEGIN:VCALENDAR
VERSION:2.0
PRODID:-//wp-events-plugin.com//7.2.3.1//EN
TZID:America/Los_Angeles
X-WR-TIMEZONE:America/Los_Angeles
BEGIN:VEVENT
UID:213@malibugardenclub.org
DTSTART;TZID=America/Los_Angeles:20221102T130000
DTEND;TZID=America/Los_Angeles:20221102T150000
DTSTAMP:20221105T115106Z
URL:https://www.malibugardenclub.org/events/garden-tour-and-luncheon-at-jo
 an-murrays-house/
SUMMARY:Garden Tour and Luncheon at Joan Murray’s house
DESCRIPTION:The high tea party held by the Malibu Garden Club was a great s
 uccess.\nWe want to thank Joan and Tiffany Murray for hosting the event at
  their beautiful house and gardens. The four kinds of tea and little petit
  four and finger sandwiches were exquisite.\nThe garden tour led by Tiffan
 y Murray was very much a beautiful walk in the park. The Murray’s have m
 ade many improvements to their gardens since the Woolsey fire. Thank heave
 ns\, their house was not burned down as was their neighbors.\nThere were 4
 0 members who enjoyed the afternoon together. A few pictures of the event 
 are below.\nHope to see you all at our next event on December 22 at the Ad
 amson House in Malibu with lunch at The Farm on the Malibu Pier.\n\n\n\n\n
 \n\n\n
ATTACH;FMTTYPE=image/jpeg:https://www.malibugardenclub.org/wp-content/uplo
 ads/fire-safe-garden.jpg
CATEGORIES:Malibu Garden Club
END:VEVENT
BEGIN:VTIMEZONE
TZID:America/Los_Angeles
X-LIC-LOCATION:America/Los_Angeles
BEGIN:DAYLIGHT
DTSTART:20220313T030000
TZOFFSETFROM:-0800
TZOFFSETTO:-0700
TZNAME:PDT
END:DAYLIGHT
END:VTIMEZONE
END:VCALENDAR