BEGIN:VCALENDAR
VERSION:2.0
PRODID:-//wp-events-plugin.com//7.2.3.1//EN
TZID:America/Los_Angeles
X-WR-TIMEZONE:America/Los_Angeles
BEGIN:VEVENT
UID:58@malibugardenclub.org
DTSTART;TZID=America/Los_Angeles:20141203T190000
DTEND;TZID=America/Los_Angeles:20141203T210000
DTSTAMP:20190623T171335Z
URL:https://www.malibugardenclub.org/events/garden-ornaments-holiday-creat
 ions-and-just-fun-stuff/
SUMMARY:Garden Ornaments – Holiday Creations and Just Fun Stuff
DESCRIPTION:For our December event\, master gardener Yvonne Darlene Savio p
 resented Garden Ornaments – Holiday Creations and Just Fun Stuff. Yvonne
  shared many ideas found across the US\, England\, and Europe.
ATTACH;FMTTYPE=image/jpeg:https://www.malibugardenclub.org/wp-content/uplo
 ads/evergreen-pine-cones.jpg
CATEGORIES:Malibu Garden Club
LOCATION:Point Dume Club House\, 29500 Heathercliff Drive\, Malibu\, Califo
 rnia\, 90265\, United States
X-APPLE-STRUCTURED-LOCATION;VALUE=URI;X-ADDRESS=29500 Heathercliff Drive\, 
 Malibu\, California\, 90265\, United States;X-APPLE-RADIUS=100;X-TITLE=Poi
 nt Dume Club House:geo:0,0
END:VEVENT
BEGIN:VTIMEZONE
TZID:America/Los_Angeles
X-LIC-LOCATION:America/Los_Angeles
BEGIN:STANDARD
DTSTART:20141102T010000
TZOFFSETFROM:-0700
TZOFFSETTO:-0800
TZNAME:PST
END:STANDARD
END:VTIMEZONE
END:VCALENDAR