BEGIN:VCALENDAR
VERSION:2.0
PRODID:-//wp-events-plugin.com//7.2.3.1//EN
TZID:America/Los_Angeles
X-WR-TIMEZONE:America/Los_Angeles
BEGIN:VEVENT
UID:191@malibugardenclub.org
DTSTART;TZID=America/Los_Angeles:20200119T130000
DTEND;TZID=America/Los_Angeles:20200119T170000
DTSTAMP:20191215T173447Z
URL:https://www.malibugardenclub.org/events/fuchsia-pruning-and-propagatio
 n-demonstration/
SUMMARY:Fuchsia Pruning and Propagation Demonstration
DESCRIPTION:South Coast Fuchsia Society members Jackie Coppin\, Marsha Hopw
 ood and David Morse will discuss fuchsia care and culture. They will demon
 strate propagation from cuttings\, training fuchsias to forms including ba
 skets\, trees and trellises and pruning techniques.
ATTACH;FMTTYPE=image/jpeg:https://www.malibugardenclub.org/wp-content/uplo
 ads/fuchsia.jpg
CATEGORIES:Local Events
LOCATION:South Coast Botanic Garden\, 26300 Crenshaw Boulevard\, Palos Verd
 es Peninsula\, California\, 90274\, United States
X-APPLE-STRUCTURED-LOCATION;VALUE=URI;X-ADDRESS=26300 Crenshaw Boulevard\, 
 Palos Verdes Peninsula\, California\, 90274\, United States;X-APPLE-RADIUS
 =100;X-TITLE=South Coast Botanic Garden:geo:0,0
END:VEVENT
BEGIN:VTIMEZONE
TZID:America/Los_Angeles
X-LIC-LOCATION:America/Los_Angeles
BEGIN:STANDARD
DTSTART:20191103T010000
TZOFFSETFROM:-0700
TZOFFSETTO:-0800
TZNAME:PST
END:STANDARD
END:VTIMEZONE
END:VCALENDAR