BEGIN:VCALENDAR
VERSION:2.0
PRODID:-//wp-events-plugin.com//7.2.3.1//EN
TZID:America/Los_Angeles
X-WR-TIMEZONE:America/Los_Angeles
BEGIN:VEVENT
UID:170@malibugardenclub.org
DTSTART;TZID=America/Los_Angeles:20191116T100000
DTEND;TZID=America/Los_Angeles:20191116T120000
DTSTAMP:20190926T112923Z
URL:https://www.malibugardenclub.org/events/fruitstitute-workshop-intro-to
 -backyard-orcharding-fruit-tree-pruning/
SUMMARY:Fruitstitute Workshop: Intro to Backyard Orcharding & Fruit Tree Pr
 uning
DESCRIPTION:Grow your knowledge about fruit trees with Southern California 
 fruit tree specialist and founder of Fruitstitute\, Joanna Glovinsky. This
  lecture and demo will delineate the differences in practice and approach 
 between backyard and commercial fruit production to teach you how to succe
 ssfully grow your own backyard fruit.
ATTACH;FMTTYPE=image/jpeg:https://www.malibugardenclub.org/wp-content/uplo
 ads/Fruitstitute.jpg
CATEGORIES:Local Events
LOCATION:Los Angeles County Arboretum and Botanic Garden\, 301 North Baldwi
 n Ave\, Arcadia\, CA\, 91007\, United States
X-APPLE-STRUCTURED-LOCATION;VALUE=URI;X-ADDRESS=301 North Baldwin Ave\, Arc
 adia\, CA\, 91007\, United States;X-APPLE-RADIUS=100;X-TITLE=Los Angeles C
 ounty Arboretum and Botanic Garden:geo:0,0
END:VEVENT
BEGIN:VTIMEZONE
TZID:America/Los_Angeles
X-LIC-LOCATION:America/Los_Angeles
BEGIN:STANDARD
DTSTART:20191103T010000
TZOFFSETFROM:-0700
TZOFFSETTO:-0800
TZNAME:PST
END:STANDARD
END:VTIMEZONE
END:VCALENDAR