BEGIN:VCALENDAR
VERSION:2.0
PRODID:-//wp-events-plugin.com//7.2.3.1//EN
TZID:America/Los_Angeles
X-WR-TIMEZONE:America/Los_Angeles
BEGIN:VEVENT
UID:185@malibugardenclub.org
DTSTART;TZID=America/Los_Angeles:20200409T190000
DTEND;TZID=America/Los_Angeles:20200409T210000
DTSTAMP:20191215T165320Z
URL:https://www.malibugardenclub.org/events/fruit-trees-with-tom-spellman/
SUMMARY:Fruit Trees with Tom Spellman
DESCRIPTION:The Southern California Horticultural Society hosts Tom Spellma
 n discussing fruit trees.\n\nMeetings also include expert discussion of pl
 ants brought in to the Plant Forum table\, and we often have Plant Raffles
 . Plants\, used and new books and magazines are usually for sale at the me
 etings.\n\nAdmission is free for members\, children\, and students with ID
 \, and $5 for non-members. 
ATTACH;FMTTYPE=image/jpeg:https://www.malibugardenclub.org/wp-content/uplo
 ads/Tom-Spellman-Fruit-Trees.jpg
CATEGORIES:Local Events
LOCATION:Friendship Auditorium\, 3201 Riverside Drive\, Los Angeles\, CA\, 
 90027\, United States
X-APPLE-STRUCTURED-LOCATION;VALUE=URI;X-ADDRESS=3201 Riverside Drive\, Los 
 Angeles\, CA\, 90027\, United States;X-APPLE-RADIUS=100;X-TITLE=Friendship
  Auditorium:geo:0,0
END:VEVENT
BEGIN:VTIMEZONE
TZID:America/Los_Angeles
X-LIC-LOCATION:America/Los_Angeles
BEGIN:DAYLIGHT
DTSTART:20200308T030000
TZOFFSETFROM:-0800
TZOFFSETTO:-0700
TZNAME:PDT
END:DAYLIGHT
END:VTIMEZONE
END:VCALENDAR