BEGIN:VCALENDAR
VERSION:2.0
PRODID:-//wp-events-plugin.com//7.2.3.1//EN
TZID:America/Los_Angeles
X-WR-TIMEZONE:America/Los_Angeles
BEGIN:VEVENT
UID:133@malibugardenclub.org
DTSTART;TZID=America/Los_Angeles:20190622T133000
DTEND;TZID=America/Los_Angeles:20190622T153000
DTSTAMP:20190620T152018Z
URL:https://www.malibugardenclub.org/events/four-seasons-of-color-with-cal
 ifornia-natives/
SUMMARY:Four Seasons of Color with California Natives
DESCRIPTION:Turn your California native garden into a seasonal showcase of 
 flowers\, seed\, fruit and foliage. Through vivid images and a detailed pl
 ant list\, this multi-hued program reveals a vibrant array of trees\, shru
 bs\, vines\, perennials\, groundcovers and grasses that will ensure year-r
 ound interest and color. 
ATTACH;FMTTYPE=image/jpeg:https://www.malibugardenclub.org/wp-content/uplo
 ads/TPF-native.jpg
CATEGORIES:Local Events
LOCATION:Theodore Payne Foundation - Classroom\, 10459 Tuxford St \, Sun Va
 lley\, CA\, 91352\, United States
X-APPLE-STRUCTURED-LOCATION;VALUE=URI;X-ADDRESS=10459 Tuxford St \, Sun Val
 ley\, CA\, 91352\, United States;X-APPLE-RADIUS=100;X-TITLE=Theodore Payne
  Foundation - Classroom:geo:0,0
END:VEVENT
BEGIN:VTIMEZONE
TZID:America/Los_Angeles
X-LIC-LOCATION:America/Los_Angeles
BEGIN:DAYLIGHT
DTSTART:20190310T030000
TZOFFSETFROM:-0800
TZOFFSETTO:-0700
TZNAME:PDT
END:DAYLIGHT
END:VTIMEZONE
END:VCALENDAR