BEGIN:VCALENDAR
VERSION:2.0
PRODID:-//wp-events-plugin.com//7.2.3.1//EN
TZID:America/Los_Angeles
X-WR-TIMEZONE:America/Los_Angeles
BEGIN:VEVENT
UID:115@malibugardenclub.org
DTSTART;TZID=America/Los_Angeles:20091007T190000
DTEND;TZID=America/Los_Angeles:20091007T210000
DTSTAMP:20190619T193445Z
URL:https://www.malibugardenclub.org/events/first-meeting-of-our-calendar-
 year/
SUMMARY:First Meeting of our Calendar Year
DESCRIPTION:We have been planning all summer. New ideas and events for our 
 Malibu Garden Club. Join us at 7:00 to schmooze\, our program starts at 7:
 30. Point Dume Club on Heathercliff. Bring your membership dues of $25. We
  offer so much for your dues. Monthly meetings\, field trips\, garden part
 ies as well as scholarships to deserving students in the gardening arena. 
 Bring fun stuff for the sharing table. Bring something and take something 
 home.
ATTACH;FMTTYPE=image/jpeg:https://www.malibugardenclub.org/wp-content/uplo
 ads/wildflowers-ptdume.jpg
CATEGORIES:Malibu Garden Club
LOCATION:Point Dume Club House\, 29500 Heathercliff Drive\, Malibu\, Califo
 rnia\, 90265\, United States
X-APPLE-STRUCTURED-LOCATION;VALUE=URI;X-ADDRESS=29500 Heathercliff Drive\, 
 Malibu\, California\, 90265\, United States;X-APPLE-RADIUS=100;X-TITLE=Poi
 nt Dume Club House:geo:0,0
END:VEVENT
BEGIN:VTIMEZONE
TZID:America/Los_Angeles
X-LIC-LOCATION:America/Los_Angeles
BEGIN:DAYLIGHT
DTSTART:20090308T030000
TZOFFSETFROM:-0800
TZOFFSETTO:-0700
TZNAME:PDT
END:DAYLIGHT
END:VTIMEZONE
END:VCALENDAR