BEGIN:VCALENDAR
VERSION:2.0
PRODID:-//wp-events-plugin.com//7.2.3.1//EN
TZID:America/Los_Angeles
X-WR-TIMEZONE:America/Los_Angeles
BEGIN:VEVENT
UID:172@malibugardenclub.org
DTSTART;TZID=America/Los_Angeles:20191207T110000
DTEND;TZID=America/Los_Angeles:20191207T120000
DTSTAMP:20190926T114330Z
URL:https://www.malibugardenclub.org/events/fall-color-walking-tour/
SUMMARY:Fall Color walking tour
DESCRIPTION:Fall comes to the Arboretum with many trees and shrubs turning 
 a variety of yellows\, golds\, oranges and reds.  Join Frank McDonough\, t
 he Arboretum’s Botanical Information Consultant\, on a walk through the 
 garden and learn why and how leaves change colors. You’ll enjoy the seas
 onal changes fall brings to the Arboretum.
ATTACH;FMTTYPE=image/jpeg:https://www.malibugardenclub.org/wp-content/uplo
 ads/Fall-Foliage.jpg
CATEGORIES:Local Events
LOCATION:Los Angeles County Arboretum and Botanic Garden\, 301 North Baldwi
 n Ave\, Arcadia\, CA\, 91007\, United States
X-APPLE-STRUCTURED-LOCATION;VALUE=URI;X-ADDRESS=301 North Baldwin Ave\, Arc
 adia\, CA\, 91007\, United States;X-APPLE-RADIUS=100;X-TITLE=Los Angeles C
 ounty Arboretum and Botanic Garden:geo:0,0
END:VEVENT
BEGIN:VTIMEZONE
TZID:America/Los_Angeles
X-LIC-LOCATION:America/Los_Angeles
BEGIN:STANDARD
DTSTART:20191103T010000
TZOFFSETFROM:-0700
TZOFFSETTO:-0800
TZNAME:PST
END:STANDARD
END:VTIMEZONE
END:VCALENDAR