BEGIN:VCALENDAR
VERSION:2.0
PRODID:-//wp-events-plugin.com//7.2.3.1//EN
TZID:America/Los_Angeles
X-WR-TIMEZONE:America/Los_Angeles
BEGIN:VEVENT
UID:59@malibugardenclub.org
DTSTART;TZID=America/Los_Angeles:20141105T190000
DTEND;TZID=America/Los_Angeles:20141105T210000
DTSTAMP:20190623T171414Z
URL:https://www.malibugardenclub.org/events/drought-stress-and-new-disease
 s-in-trees-and-shrubs-in-southern-california/
SUMMARY:Drought Stress and New Diseases in Trees and Shrubs in Southern Cal
 ifornia
DESCRIPTION:Jerry Turney\, Ph.D. spoke on Drought Stress and New Diseases i
 n Trees and Shrubs in Southern California. Jerry is a Plant Pathologist wi
 th the Agricultural Commission of Los Angeles County.
ATTACH;FMTTYPE=image/jpeg:https://www.malibugardenclub.org/wp-content/uplo
 ads/trees-shrubs.jpg
CATEGORIES:Malibu Garden Club
LOCATION:Point Dume Club House\, 29500 Heathercliff Drive\, Malibu\, Califo
 rnia\, 90265\, United States
X-APPLE-STRUCTURED-LOCATION;VALUE=URI;X-ADDRESS=29500 Heathercliff Drive\, 
 Malibu\, California\, 90265\, United States;X-APPLE-RADIUS=100;X-TITLE=Poi
 nt Dume Club House:geo:0,0
END:VEVENT
BEGIN:VTIMEZONE
TZID:America/Los_Angeles
X-LIC-LOCATION:America/Los_Angeles
BEGIN:STANDARD
DTSTART:20141102T010000
TZOFFSETFROM:-0700
TZOFFSETTO:-0800
TZNAME:PST
END:STANDARD
END:VTIMEZONE
END:VCALENDAR