BEGIN:VCALENDAR
VERSION:2.0
PRODID:-//wp-events-plugin.com//7.2.3.1//EN
TZID:America/Los_Angeles
X-WR-TIMEZONE:America/Los_Angeles
BEGIN:VEVENT
UID:131@malibugardenclub.org
DTSTART;TZID=America/Los_Angeles:20080206T190000
DTEND;TZID=America/Los_Angeles:20080206T210000
DTSTAMP:20190623T163056Z
URL:https://www.malibugardenclub.org/events/development-of-the-huntington-
 desert-garden/
SUMMARY:Development of the Huntington Desert Garden
DESCRIPTION:For our February meeting\, Gary Lyons\, Curator of the Desert G
 arden at the Huntington Botanical Garden\, presented "Development of the H
 untington Desert Garden\," from an Estate Garden in 1907 to the Botanic Ga
 rden & Display it is today.
ATTACH;FMTTYPE=image/jpeg:https://www.malibugardenclub.org/wp-content/uplo
 ads/huntington-desert-garden.jpg
CATEGORIES:Malibu Garden Club
LOCATION:Point Dume Club House\, 29500 Heathercliff Drive\, Malibu\, Califo
 rnia\, 90265\, United States
X-APPLE-STRUCTURED-LOCATION;VALUE=URI;X-ADDRESS=29500 Heathercliff Drive\, 
 Malibu\, California\, 90265\, United States;X-APPLE-RADIUS=100;X-TITLE=Poi
 nt Dume Club House:geo:0,0
END:VEVENT
BEGIN:VTIMEZONE
TZID:America/Los_Angeles
X-LIC-LOCATION:America/Los_Angeles
BEGIN:STANDARD
DTSTART:20071104T010000
TZOFFSETFROM:-0700
TZOFFSETTO:-0800
TZNAME:PST
END:STANDARD
END:VTIMEZONE
END:VCALENDAR