BEGIN:VCALENDAR
VERSION:2.0
PRODID:-//wp-events-plugin.com//7.2.3.1//EN
TZID:America/Los_Angeles
X-WR-TIMEZONE:America/Los_Angeles
BEGIN:VEVENT
UID:47@malibugardenclub.org
DTSTART;TZID=America/Los_Angeles:20160106T190000
DTEND;TZID=America/Los_Angeles:20160106T210000
DTSTAMP:20190623T173454Z
URL:https://www.malibugardenclub.org/events/designing-your-garden-with-cal
 ifornia-native-plants/
SUMMARY:Designing your Garden with California Native Plants
DESCRIPTION:For our January event\, Carol Bornstein presented "Designing yo
 ur Garden with California Native Plants." Carol provided an illustrated pr
 esentation offered tips on designing a native garden that works for you.
ATTACH;FMTTYPE=image/jpeg:https://www.malibugardenclub.org/wp-content/uplo
 ads/native-plants-1.jpg
CATEGORIES:Malibu Garden Club
LOCATION:Point Dume Club House\, 29500 Heathercliff Drive\, Malibu\, Califo
 rnia\, 90265\, United States
X-APPLE-STRUCTURED-LOCATION;VALUE=URI;X-ADDRESS=29500 Heathercliff Drive\, 
 Malibu\, California\, 90265\, United States;X-APPLE-RADIUS=100;X-TITLE=Poi
 nt Dume Club House:geo:0,0
END:VEVENT
BEGIN:VTIMEZONE
TZID:America/Los_Angeles
X-LIC-LOCATION:America/Los_Angeles
BEGIN:STANDARD
DTSTART:20151101T010000
TZOFFSETFROM:-0700
TZOFFSETTO:-0800
TZNAME:PST
END:STANDARD
END:VTIMEZONE
END:VCALENDAR