BEGIN:VCALENDAR
VERSION:2.0
PRODID:-//wp-events-plugin.com//7.2.3.1//EN
TZID:America/Los_Angeles
X-WR-TIMEZONE:America/Los_Angeles
BEGIN:VEVENT
UID:56@malibugardenclub.org
DTSTART;TZID=America/Los_Angeles:20150204T190000
DTEND;TZID=America/Los_Angeles:20150204T210000
DTSTAMP:20190623T171209Z
URL:https://www.malibugardenclub.org/events/design-like-a-pro-demystifying
 -the-art-of-garden-design/
SUMMARY:Design Like A Pro — Demystifying the Art of Garden Design
DESCRIPTION:For our February event\, landscape architect\, writer\, educato
 r Billy Goodnick educated and entertained us with Design Like A Pro — De
 mystifying the Art of Garden Design. Billy sold and signed his book "Yards
 " after his presentation. We also raffled off a copy.
ATTACH;FMTTYPE=image/jpeg:https://www.malibugardenclub.org/wp-content/uplo
 ads/Billy-Goodnick.jpg
CATEGORIES:Malibu Garden Club
LOCATION:Point Dume Club House\, 29500 Heathercliff Drive\, Malibu\, Califo
 rnia\, 90265\, United States
X-APPLE-STRUCTURED-LOCATION;VALUE=URI;X-ADDRESS=29500 Heathercliff Drive\, 
 Malibu\, California\, 90265\, United States;X-APPLE-RADIUS=100;X-TITLE=Poi
 nt Dume Club House:geo:0,0
END:VEVENT
BEGIN:VTIMEZONE
TZID:America/Los_Angeles
X-LIC-LOCATION:America/Los_Angeles
BEGIN:STANDARD
DTSTART:20141102T010000
TZOFFSETFROM:-0700
TZOFFSETTO:-0800
TZNAME:PST
END:STANDARD
END:VTIMEZONE
END:VCALENDAR