BEGIN:VCALENDAR
VERSION:2.0
PRODID:-//wp-events-plugin.com//7.2.3.1//EN
TZID:America/Los_Angeles
X-WR-TIMEZONE:America/Los_Angeles
BEGIN:VEVENT
UID:30@malibugardenclub.org
DTSTART;TZID=America/Los_Angeles:20170405T190000
DTEND;TZID=America/Los_Angeles:20170405T210000
DTSTAMP:20190623T172705Z
URL:https://www.malibugardenclub.org/events/cycads-the-perfect-plant-for-m
 alibu/
SUMMARY:Cycads: the Perfect Plant for Malibu
DESCRIPTION:For our April event\, Randy Wild presented Cycads: the Perfect 
 Plant for Malibu. Cycads go back to the time of the dinosaurs. They are th
 e oldest fossilized plant that we have on record. They are considered the 
 first conifer and the first plant that has male and female genders in sepa
 rate plants. They are also the first plant to reproduce by pollen.
ATTACH;FMTTYPE=image/jpeg:https://www.malibugardenclub.org/wp-content/uplo
 ads/Cycads.jpg
CATEGORIES:Malibu Garden Club
LOCATION:Point Dume Club House\, 29500 Heathercliff Drive\, Malibu\, Califo
 rnia\, 90265\, United States
X-APPLE-STRUCTURED-LOCATION;VALUE=URI;X-ADDRESS=29500 Heathercliff Drive\, 
 Malibu\, California\, 90265\, United States;X-APPLE-RADIUS=100;X-TITLE=Poi
 nt Dume Club House:geo:0,0
END:VEVENT
BEGIN:VTIMEZONE
TZID:America/Los_Angeles
X-LIC-LOCATION:America/Los_Angeles
BEGIN:DAYLIGHT
DTSTART:20170312T030000
TZOFFSETFROM:-0800
TZOFFSETTO:-0700
TZNAME:PDT
END:DAYLIGHT
END:VTIMEZONE
END:VCALENDAR