BEGIN:VCALENDAR
VERSION:2.0
PRODID:-//wp-events-plugin.com//7.2.3.1//EN
TZID:America/Los_Angeles
X-WR-TIMEZONE:America/Los_Angeles
BEGIN:VEVENT
UID:169@malibugardenclub.org
DTSTART;TZID=America/Los_Angeles:20191019T100000
DTEND;TZID=America/Los_Angeles:20191019T120000
DTSTAMP:20190926T112055Z
URL:https://www.malibugardenclub.org/events/crescent-farm-meadow-planting/
SUMMARY:Crescent Farm: Meadow Planting
DESCRIPTION:Join the many who’ve enjoyed our continuously flowering meado
 w!  Learn how easy it is to make such magic happen using native and compat
 ible flowers from seed!  We’ll make seed balls for everyone to enjoy and
  launch!
ATTACH;FMTTYPE=image/jpeg:https://www.malibugardenclub.org/wp-content/uplo
 ads/Crescent-Farm.jpg
CATEGORIES:Local Events
LOCATION:Los Angeles County Arboretum and Botanic Garden\, 301 North Baldwi
 n Ave\, Arcadia\, CA\, 91007\, United States
X-APPLE-STRUCTURED-LOCATION;VALUE=URI;X-ADDRESS=301 North Baldwin Ave\, Arc
 adia\, CA\, 91007\, United States;X-APPLE-RADIUS=100;X-TITLE=Los Angeles C
 ounty Arboretum and Botanic Garden:geo:0,0
END:VEVENT
BEGIN:VTIMEZONE
TZID:America/Los_Angeles
X-LIC-LOCATION:America/Los_Angeles
BEGIN:DAYLIGHT
DTSTART:20190310T030000
TZOFFSETFROM:-0800
TZOFFSETTO:-0700
TZNAME:PDT
END:DAYLIGHT
END:VTIMEZONE
END:VCALENDAR