BEGIN:VCALENDAR
VERSION:2.0
PRODID:-//wp-events-plugin.com//7.2.3.1//EN
TZID:America/Los_Angeles
X-WR-TIMEZONE:America/Los_Angeles
BEGIN:VEVENT
UID:76@malibugardenclub.org
DTSTART;TZID=America/Los_Angeles:20130206T190000
DTEND;TZID=America/Los_Angeles:20130206T210000
DTSTAMP:20190623T165109Z
URL:https://www.malibugardenclub.org/events/creating-your-dream-garden/
SUMMARY:Creating Your Dream Garden!
DESCRIPTION:For our February meeting\, Mary Ann Rush presented on a variety
  of garden types including the Moonglow Garden (the all-white garden that 
 glows on the night of the full moon)\, the Hummingbird Garden and Butterfl
 y Garden.
ATTACH;FMTTYPE=image/jpeg:https://www.malibugardenclub.org/wp-content/uplo
 ads/humingbird.jpg
CATEGORIES:Malibu Garden Club
LOCATION:Point Dume Club House\, 29500 Heathercliff Drive\, Malibu\, Califo
 rnia\, 90265\, United States
X-APPLE-STRUCTURED-LOCATION;VALUE=URI;X-ADDRESS=29500 Heathercliff Drive\, 
 Malibu\, California\, 90265\, United States;X-APPLE-RADIUS=100;X-TITLE=Poi
 nt Dume Club House:geo:0,0
END:VEVENT
BEGIN:VTIMEZONE
TZID:America/Los_Angeles
X-LIC-LOCATION:America/Los_Angeles
BEGIN:STANDARD
DTSTART:20121104T010000
TZOFFSETFROM:-0700
TZOFFSETTO:-0800
TZNAME:PST
END:STANDARD
END:VTIMEZONE
END:VCALENDAR