BEGIN:VCALENDAR
VERSION:2.0
PRODID:-//wp-events-plugin.com//7.2.3.1//EN
TZID:America/Los_Angeles
X-WR-TIMEZONE:America/Los_Angeles
BEGIN:VEVENT
UID:51@malibugardenclub.org
DTSTART;TZID=America/Los_Angeles:20151007T190000
DTEND;TZID=America/Los_Angeles:20151007T210000
DTSTAMP:20190623T174853Z
URL:https://www.malibugardenclub.org/events/creating-a-butterfly-garden-in
 -malibu/
SUMMARY:Creating a Butterfly Garden in Malibu
DESCRIPTION:For our October event\, David Snow presented "Creating a Butter
 fly Garden in Malibu." David Snow's talk covered how to attract butterflie
 s into your garden by planting two types of plants\; host plants and flowe
 ring plants that attract butterflies into the garden. 
ATTACH;FMTTYPE=image/jpeg:https://www.malibugardenclub.org/wp-content/uplo
 ads/butterflies.jpg
CATEGORIES:Malibu Garden Club
LOCATION:Point Dume Club House\, 29500 Heathercliff Drive\, Malibu\, Califo
 rnia\, 90265\, United States
X-APPLE-STRUCTURED-LOCATION;VALUE=URI;X-ADDRESS=29500 Heathercliff Drive\, 
 Malibu\, California\, 90265\, United States;X-APPLE-RADIUS=100;X-TITLE=Poi
 nt Dume Club House:geo:0,0
END:VEVENT
BEGIN:VTIMEZONE
TZID:America/Los_Angeles
X-LIC-LOCATION:America/Los_Angeles
BEGIN:DAYLIGHT
DTSTART:20150308T030000
TZOFFSETFROM:-0800
TZOFFSETTO:-0700
TZNAME:PDT
END:DAYLIGHT
END:VTIMEZONE
END:VCALENDAR