BEGIN:VCALENDAR
VERSION:2.0
PRODID:-//wp-events-plugin.com//7.2.3.1//EN
TZID:America/Los_Angeles
X-WR-TIMEZONE:America/Los_Angeles
BEGIN:VEVENT
UID:211@malibugardenclub.org
DTSTART;TZID=America/Los_Angeles:20200523T000000
DTEND;TZID=America/Los_Angeles:20200523T000000
DTSTAMP:20220924T114520Z
URL:https://www.malibugardenclub.org/events/coronavirus-update/
SUMMARY:Coronavirus update
DESCRIPTION:We are sure it will not come as no surprise that we sadly have 
 to temporarily cancel our upcoming events. We are concerned that many of o
 ur members are in the target demographic of this virus and are asked to st
 ay home. As well as the issue of social distance.\n\nSo\, stay safe\, stay
  healthy and this is the perfect time to spruce up your garden. Pulling we
 eds is a great solo activity. See you soon.
ATTACH;FMTTYPE=image/jpeg:https://www.malibugardenclub.org/wp-content/uplo
 ads/wildflowers-Jim-Kenney.jpg
CATEGORIES:Malibu Garden Club
END:VEVENT
BEGIN:VTIMEZONE
TZID:America/Los_Angeles
X-LIC-LOCATION:America/Los_Angeles
BEGIN:DAYLIGHT
DTSTART:20200308T030000
TZOFFSETFROM:-0800
TZOFFSETTO:-0700
TZNAME:PDT
END:DAYLIGHT
END:VTIMEZONE
END:VCALENDAR