BEGIN:VCALENDAR
VERSION:2.0
PRODID:-//wp-events-plugin.com//7.2.3.1//EN
TZID:America/Los_Angeles
X-WR-TIMEZONE:America/Los_Angeles
BEGIN:VEVENT
UID:186@malibugardenclub.org
DTSTART;TZID=America/Los_Angeles:20200226T140000
DTEND;TZID=America/Los_Angeles:20200226T150000
DTSTAMP:20191215T170109Z
URL:https://www.malibugardenclub.org/events/container-gardening-with-yvonn
 e-savio/
SUMMARY:Container Gardening with Yvonne Savio
DESCRIPTION:The Laguna Woods Garden Club hosts Yvonne Savio discussing and 
 showing slides of container gardening\, what to consider\, how to accompli
 sh\, and some fun containers.
ATTACH;FMTTYPE=image/jpeg:https://www.malibugardenclub.org/wp-content/uplo
 ads/Container-Garden.jpg
CATEGORIES:Local Events
LOCATION:Laguna Woods Garden Club\, 24102 El Toro Road\, Laguna Woods\, CA\
 , 92537\, United States
X-APPLE-STRUCTURED-LOCATION;VALUE=URI;X-ADDRESS=24102 El Toro Road\, Laguna
  Woods\, CA\, 92537\, United States;X-APPLE-RADIUS=100;X-TITLE=Laguna Wood
 s Garden Club:geo:0,0
END:VEVENT
BEGIN:VTIMEZONE
TZID:America/Los_Angeles
X-LIC-LOCATION:America/Los_Angeles
BEGIN:STANDARD
DTSTART:20191103T010000
TZOFFSETFROM:-0700
TZOFFSETTO:-0800
TZNAME:PST
END:STANDARD
END:VTIMEZONE
END:VCALENDAR