BEGIN:VCALENDAR
VERSION:2.0
PRODID:-//wp-events-plugin.com//7.2.3.1//EN
TZID:America/Los_Angeles
X-WR-TIMEZONE:America/Los_Angeles
BEGIN:VEVENT
UID:192@malibugardenclub.org
DTSTART;TZID=America/Los_Angeles:20200208T130000
DTEND;TZID=America/Los_Angeles:20200208T153000
DTSTAMP:20191215T173920Z
URL:https://www.malibugardenclub.org/events/container-and-small-space-gard
 ening/
SUMMARY:Container and Small Space Gardening
DESCRIPTION:Living in a large city with little green space means we need to
  get creative! Learn how to have your own green space anywhere you live wi
 th Master Gardener Sara Saxonberg. She’ll introduce you to the concepts 
 of plant placement and container gardening to create your very own green s
 pace. Having a yard not required! Patios\, balconies and window sills are 
 plenty to grow something beautiful and delicious!
ATTACH;FMTTYPE=image/jpeg:https://www.malibugardenclub.org/wp-content/uplo
 ads/containers.jpg
CATEGORIES:Local Events
LOCATION:South Coast Botanic Garden\, 26300 Crenshaw Boulevard\, Palos Verd
 es Peninsula\, California\, 90274\, United States
X-APPLE-STRUCTURED-LOCATION;VALUE=URI;X-ADDRESS=26300 Crenshaw Boulevard\, 
 Palos Verdes Peninsula\, California\, 90274\, United States;X-APPLE-RADIUS
 =100;X-TITLE=South Coast Botanic Garden:geo:0,0
END:VEVENT
BEGIN:VTIMEZONE
TZID:America/Los_Angeles
X-LIC-LOCATION:America/Los_Angeles
BEGIN:STANDARD
DTSTART:20191103T010000
TZOFFSETFROM:-0700
TZOFFSETTO:-0800
TZNAME:PST
END:STANDARD
END:VTIMEZONE
END:VCALENDAR